BEGIN:VCALENDAR
VERSION:2.0
PRODID:-//Santa Rosa Southeast Greenway - ECPv6.14.2//NONSGML v1.0//EN
CALSCALE:GREGORIAN
METHOD:PUBLISH
X-ORIGINAL-URL:https://southeastgreenway.org
X-WR-CALDESC:Events for Santa Rosa Southeast Greenway
REFRESH-INTERVAL;VALUE=DURATION:PT1H
X-Robots-Tag:noindex
X-PUBLISHED-TTL:PT1H
BEGIN:VTIMEZONE
TZID:UTC
BEGIN:STANDARD
TZOFFSETFROM:+0000
TZOFFSETTO:+0000
TZNAME:UTC
DTSTART:20250101T000000
END:STANDARD
END:VTIMEZONE
BEGIN:VEVENT
DTSTART;TZID=UTC:20250419T070000
DTEND;TZID=UTC:20250419T090000
DTSTAMP:20260420T083011
CREATED:20250315T232320Z
LAST-MODIFIED:20250413T204505Z
UID:3409-1745046000-1745053200@southeastgreenway.org
SUMMARY:Birdwatching on the Greenway
DESCRIPTION:Join local birder Pete Dellavalle for a peaceful birdwatching expedition.
URL:https://southeastgreenway.org/event/test-event/
END:VEVENT
END:VCALENDAR